Package: MAGAR
Version: 1.14.0
Command: /Library/Frameworks/R.framework/Resources/bin/R CMD build --keep-empty-dirs --no-resave-data MAGAR
StartedAt: 2025-02-17 20:03:33 -0500 (Mon, 17 Feb 2025)
EndedAt: 2025-02-17 20:08:21 -0500 (Mon, 17 Feb 2025)
EllapsedTime: 287.5 seconds
RetCode: 0
Status: OK
PackageFile: MAGAR_1.14.0.tar.gz
PackageFileSize: 1021 <A href="http://en.wikipedia.org/wiki/KiB" target="_blank">KiB</A>