Package: MAGAR Version: 1.14.0 Command: /home/biocbuild/bbs-3.20-bioc/R/bin/R CMD build --keep-empty-dirs --no-resave-data --md5 MAGAR StartedAt: 2025-02-03 18:01:54 -0500 (Mon, 03 Feb 2025) EndedAt: 2025-02-03 18:03:40 -0500 (Mon, 03 Feb 2025) EllapsedTime: 106.1 seconds RetCode: 0 Status: OK PackageFile: MAGAR_1.14.0.tar.gz PackageFileSize: 1.006 MiB