Package: MAGAR Version: 1.14.0 Command: /home/biocbuild/R/R/bin/R CMD INSTALL MAGAR StartedAt: 2025-02-03 21:23:15 -0000 (Mon, 03 Feb 2025) EndedAt: 2025-02-03 21:24:37 -0000 (Mon, 03 Feb 2025) EllapsedTime: 82.0 seconds RetCode: 0 Status: OK