Package: MAGeCKFlute Version: 2.10.0 Command: /Library/Frameworks/R.framework/Resources/bin/R CMD build --keep-empty-dirs --no-resave-data MAGeCKFlute StartedAt: 2025-02-11 02:31:00 -0500 (Tue, 11 Feb 2025) EndedAt: 2025-02-11 02:34:26 -0500 (Tue, 11 Feb 2025) EllapsedTime: 206.3 seconds RetCode: 1 Status: ERROR PackageFile: None PackageFileSize: NA