Package: MAGeCKFlute Version: 2.10.0 Command: /home/biocbuild/bbs-3.20-bioc/R/bin/R CMD INSTALL MAGeCKFlute StartedAt: 2025-02-03 15:57:01 -0500 (Mon, 03 Feb 2025) EndedAt: 2025-02-03 15:57:34 -0500 (Mon, 03 Feb 2025) EllapsedTime: 33.1 seconds RetCode: 0 Status: OK