Package: MAI Version: 1.12.0 Command: rm -rf MAI.buildbin-libdir && mkdir MAI.buildbin-libdir && /Users/biocbuild/BBS/utils/build-universal.sh MAI_1.12.0.tar.gz /Library/Frameworks/R.framework/Resources/bin/R MAI.buildbin-libdir StartedAt: 2025-02-01 15:32:47 -0500 (Sat, 01 Feb 2025) EndedAt: 2025-02-01 15:33:21 -0500 (Sat, 01 Feb 2025) EllapsedTime: 33.7 seconds RetCode: 0 Status: OK PackageFile: MAI_1.12.0.tgz PackageFileSize: 498.8 KiB