Package: MAI Version: 1.12.0 Command: /Library/Frameworks/R.framework/Resources/bin/R CMD build --keep-empty-dirs --no-resave-data MAI StartedAt: 2025-01-31 02:27:27 -0500 (Fri, 31 Jan 2025) EndedAt: 2025-01-31 02:32:27 -0500 (Fri, 31 Jan 2025) EllapsedTime: 300.5 seconds RetCode: 0 Status: OK PackageFile: MAI_1.12.0.tar.gz PackageFileSize: 451.8 KiB