Package: MAI Version: 1.12.0 Command: /Library/Frameworks/R.framework/Resources/bin/R CMD INSTALL MAI StartedAt: 2025-01-30 17:41:50 -0500 (Thu, 30 Jan 2025) EndedAt: 2025-01-30 17:42:21 -0500 (Thu, 30 Jan 2025) EllapsedTime: 31.8 seconds RetCode: 0 Status: OK