Package: MAI Version: 1.12.0 Command: rm -rf MAI.buildbin-libdir && mkdir MAI.buildbin-libdir && /Users/biocbuild/BBS/utils/build-universal.sh MAI_1.12.0.tar.gz /Library/Frameworks/R.framework/Resources/bin/R MAI.buildbin-libdir StartedAt: 2025-01-31 13:05:21 -0500 (Fri, 31 Jan 2025) EndedAt: 2025-01-31 13:06:18 -0500 (Fri, 31 Jan 2025) EllapsedTime: 57.1 seconds RetCode: 0 Status: OK PackageFile: MAI_1.12.0.tgz PackageFileSize: 499.2 KiB