Package: MAI Version: 1.12.0 Command: /Library/Frameworks/R.framework/Resources/bin/R CMD check --install=check:MAI.install-out.txt --library=/Library/Frameworks/R.framework/Resources/library --no-vignettes --timings MAI_1.12.0.tar.gz StartedAt: 2025-02-04 05:45:57 -0500 (Tue, 04 Feb 2025) EndedAt: 2025-02-04 06:03:54 -0500 (Tue, 04 Feb 2025) EllapsedTime: 1077.6 seconds RetCode: 0 Status: OK CheckDir: MAI.Rcheck Warnings: 0