Package: MAI Version: 1.12.0 Command: /Library/Frameworks/R.framework/Resources/bin/R CMD INSTALL MAI StartedAt: 2025-02-03 16:31:28 -0500 (Mon, 03 Feb 2025) EndedAt: 2025-02-03 16:32:24 -0500 (Mon, 03 Feb 2025) EllapsedTime: 56.1 seconds RetCode: 0 Status: OK