Package: MAI Version: 1.12.0 Command: /home/biocbuild/R/R/bin/R CMD check --install=check:MAI.install-out.txt --library=/home/biocbuild/R/R/site-library --no-vignettes --timings MAI_1.12.0.tar.gz StartedAt: 2025-02-04 08:24:30 -0000 (Tue, 04 Feb 2025) EndedAt: 2025-02-04 08:34:44 -0000 (Tue, 04 Feb 2025) EllapsedTime: 613.8 seconds RetCode: 0 Status: OK CheckDir: MAI.Rcheck Warnings: 0