Package: MANOR Version: 1.78.0 Command: /Library/Frameworks/R.framework/Resources/bin/R CMD check --install=check:MANOR.install-out.txt --library=/Library/Frameworks/R.framework/Resources/library --no-vignettes --timings MANOR_1.78.0.tar.gz StartedAt: 2025-02-05 00:29:01 -0500 (Wed, 05 Feb 2025) EndedAt: 2025-02-05 00:29:44 -0500 (Wed, 05 Feb 2025) EllapsedTime: 43.4 seconds RetCode: 0 Status: WARNINGS CheckDir: MANOR.Rcheck Warnings: 2