Package: MANOR Version: 1.78.0 Command: /Library/Frameworks/R.framework/Resources/bin/R CMD INSTALL MANOR StartedAt: 2025-02-03 15:12:30 -0500 (Mon, 03 Feb 2025) EndedAt: 2025-02-03 15:12:36 -0500 (Mon, 03 Feb 2025) EllapsedTime: 6.1 seconds RetCode: 0 Status: OK