Package: MANOR
Version: 1.78.0
Command: /home/biocbuild/R/R/bin/R CMD INSTALL MANOR
StartedAt: 2024-11-19 20:28:28 -0000 (Tue, 19 Nov 2024)
EndedAt: 2024-11-19 20:29:15 -0000 (Tue, 19 Nov 2024)
EllapsedTime: 47.0 seconds
RetCode: 0
Status: OK