Package: MANOR Version: 1.78.0 Command: rm -rf MANOR.buildbin-libdir && mkdir MANOR.buildbin-libdir && /Users/biocbuild/BBS/utils/build-universal.sh MANOR_1.78.0.tar.gz /Library/Frameworks/R.framework/Resources/bin/R MANOR.buildbin-libdir StartedAt: 2025-02-04 13:19:13 -0500 (Tue, 04 Feb 2025) EndedAt: 2025-02-04 13:19:34 -0500 (Tue, 04 Feb 2025) EllapsedTime: 21.8 seconds RetCode: 0 Status: OK PackageFile: MANOR_1.78.0.tgz PackageFileSize: 1.785 MiB