Package: MANOR Version: 1.78.0 Command: /Library/Frameworks/R.framework/Resources/bin/R CMD build --keep-empty-dirs --no-resave-data MANOR StartedAt: 2025-02-03 20:00:22 -0500 (Mon, 03 Feb 2025) EndedAt: 2025-02-03 20:01:30 -0500 (Mon, 03 Feb 2025) EllapsedTime: 67.9 seconds RetCode: 0 Status: OK PackageFile: MANOR_1.78.0.tar.gz PackageFileSize: 1.696 MiB