Package: MANOR Version: 1.78.0 Command: rm -rf MANOR.buildbin-libdir && mkdir MANOR.buildbin-libdir && F:\biocbuild\bbs-3.20-bioc\R\bin\R.exe CMD INSTALL --build --library=MANOR.buildbin-libdir MANOR_1.78.0.tar.gz StartedAt: 2025-02-04 08:50:26 -0500 (Tue, 04 Feb 2025) EndedAt: 2025-02-04 08:50:50 -0500 (Tue, 04 Feb 2025) EllapsedTime: 24.1 seconds RetCode: 0 Status: OK PackageFile: MANOR_1.78.0.zip PackageFileSize: 916.7 KiB