Package: MANOR Version: 1.78.0 Command: chmod a+r MANOR -R && F:\biocbuild\bbs-3.20-bioc\R\bin\R.exe CMD build --keep-empty-dirs --no-resave-data MANOR StartedAt: 2025-02-03 20:06:41 -0500 (Mon, 03 Feb 2025) EndedAt: 2025-02-03 20:07:49 -0500 (Mon, 03 Feb 2025) EllapsedTime: 67.8 seconds RetCode: 0 Status: OK PackageFile: MANOR_1.78.0.tar.gz PackageFileSize: 821.5 KiB