Package: MANOR
Version: 1.78.0
Command: /home/biocbuild/R/R/bin/R CMD build --keep-empty-dirs --no-resave-data MANOR
StartedAt: 2025-02-18 00:36:55 -0000 (Tue, 18 Feb 2025)
EndedAt: 2025-02-18 00:36:57 -0000 (Tue, 18 Feb 2025)
EllapsedTime: 2.0 seconds
RetCode: 1
Status: ERROR
PackageFile: None
PackageFileSize: NA