Package: MAPFX Version: 1.2.0 Command: /Library/Frameworks/R.framework/Resources/bin/R CMD build --keep-empty-dirs --no-resave-data MAPFX StartedAt: 2025-02-03 20:00:41 -0500 (Mon, 03 Feb 2025) EndedAt: 2025-02-03 20:15:09 -0500 (Mon, 03 Feb 2025) EllapsedTime: 868.1 seconds RetCode: 0 Status: OK PackageFile: MAPFX_1.2.0.tar.gz PackageFileSize: 3.543 MiB