Package: MAPFX Version: 1.2.0 Command: /Library/Frameworks/R.framework/Resources/bin/R CMD INSTALL MAPFX StartedAt: 2025-02-03 16:47:57 -0500 (Mon, 03 Feb 2025) EndedAt: 2025-02-03 16:48:44 -0500 (Mon, 03 Feb 2025) EllapsedTime: 47.4 seconds RetCode: 0 Status: OK