Package: MAPFX Version: 1.2.0 Command: /home/biocbuild/bbs-3.20-bioc/R/bin/R CMD build --keep-empty-dirs --no-resave-data --md5 MAPFX StartedAt: 2025-02-03 18:02:45 -0500 (Mon, 03 Feb 2025) EndedAt: 2025-02-03 18:10:03 -0500 (Mon, 03 Feb 2025) EllapsedTime: 438.5 seconds RetCode: 0 Status: OK PackageFile: MAPFX_1.2.0.tar.gz PackageFileSize: 3.545 MiB