Package: MAPFX Version: 1.2.0 Command: /home/biocbuild/bbs-3.20-bioc/R/bin/R CMD INSTALL MAPFX StartedAt: 2025-02-03 16:08:44 -0500 (Mon, 03 Feb 2025) EndedAt: 2025-02-03 16:09:09 -0500 (Mon, 03 Feb 2025) EllapsedTime: 24.5 seconds RetCode: 0 Status: OK