Package: MAPFX Version: 1.2.0 Command: /home/biocbuild/R/R/bin/R CMD build --keep-empty-dirs --no-resave-data MAPFX StartedAt: 2025-02-18 00:37:04 -0000 (Tue, 18 Feb 2025) EndedAt: 2025-02-18 00:46:32 -0000 (Tue, 18 Feb 2025) EllapsedTime: 568.2 seconds RetCode: 0 Status: OK PackageFile: MAPFX_1.2.0.tar.gz PackageFileSize: 3.569 <A href="http://en.wikipedia.org/wiki/MiB" target="_blank">MiB</A>