Package: MAPFX Version: 1.2.0 Command: /home/biocbuild/R/R/bin/R CMD INSTALL MAPFX StartedAt: 2025-02-17 21:17:33 -0000 (Mon, 17 Feb 2025) EndedAt: 2025-02-17 21:18:01 -0000 (Mon, 17 Feb 2025) EllapsedTime: 28.1 seconds RetCode: 0 Status: OK