Package: MBECS Version: 1.10.0 Command: rm -rf MBECS.buildbin-libdir && mkdir MBECS.buildbin-libdir && /Users/biocbuild/BBS/utils/build-universal.sh MBECS_1.10.0.tar.gz /Library/Frameworks/R.framework/Resources/bin/R MBECS.buildbin-libdir StartedAt: 2025-02-01 15:35:13 -0500 (Sat, 01 Feb 2025) EndedAt: 2025-02-01 15:35:39 -0500 (Sat, 01 Feb 2025) EllapsedTime: 26.2 seconds RetCode: 0 Status: OK PackageFile: MBECS_1.10.0.tgz PackageFileSize: 799.6 KiB