Package: MBECS Version: 1.10.0 Command: /Library/Frameworks/R.framework/Resources/bin/R CMD INSTALL MBECS StartedAt: 2025-01-30 17:31:49 -0500 (Thu, 30 Jan 2025) EndedAt: 2025-01-30 17:32:13 -0500 (Thu, 30 Jan 2025) EllapsedTime: 23.9 seconds RetCode: 0 Status: OK