Package: MBECS Version: 1.10.0 Command: /Library/Frameworks/R.framework/Resources/bin/R CMD INSTALL MBECS StartedAt: 2024-11-19 15:37:44 -0500 (Tue, 19 Nov 2024) EndedAt: 2024-11-19 15:38:13 -0500 (Tue, 19 Nov 2024) EllapsedTime: 28.7 seconds RetCode: 0 Status: OK