Package: MBECS Version: 1.10.0 Command: rm -rf MBECS.buildbin-libdir && mkdir MBECS.buildbin-libdir && /Users/biocbuild/BBS/utils/build-universal.sh MBECS_1.10.0.tar.gz /Library/Frameworks/R.framework/Resources/bin/R MBECS.buildbin-libdir StartedAt: 2025-01-31 13:06:21 -0500 (Fri, 31 Jan 2025) EndedAt: 2025-01-31 13:07:10 -0500 (Fri, 31 Jan 2025) EllapsedTime: 48.5 seconds RetCode: 0 Status: OK PackageFile: MBECS_1.10.0.tgz PackageFileSize: 799.6 KiB