Package: MBECS Version: 1.10.0 Command: /Library/Frameworks/R.framework/Resources/bin/R CMD check --install=check:MBECS.install-out.txt --library=/Library/Frameworks/R.framework/Resources/library --no-vignettes --timings MBECS_1.10.0.tar.gz StartedAt: 2025-01-31 06:00:48 -0500 (Fri, 31 Jan 2025) EndedAt: 2025-01-31 06:09:35 -0500 (Fri, 31 Jan 2025) EllapsedTime: 526.6 seconds RetCode: 0 Status: OK CheckDir: MBECS.Rcheck Warnings: 0