Package: MBECS Version: 1.10.0 Command: /home/biocbuild/R/R/bin/R CMD INSTALL MBECS StartedAt: 2025-01-30 20:55:19 -0000 (Thu, 30 Jan 2025) EndedAt: 2025-01-30 20:55:44 -0000 (Thu, 30 Jan 2025) EllapsedTime: 25.5 seconds RetCode: 0 Status: OK