Package: MBQN Version: 2.18.0 Command: /Library/Frameworks/R.framework/Resources/bin/R CMD INSTALL MBQN StartedAt: 2025-02-03 16:36:31 -0500 (Mon, 03 Feb 2025) EndedAt: 2025-02-03 16:36:35 -0500 (Mon, 03 Feb 2025) EllapsedTime: 3.5 seconds RetCode: 0 Status: OK