Package: MBQN
Version: 2.18.0
Command: /home/biocbuild/R/R/bin/R CMD INSTALL MBQN
StartedAt: 2024-11-19 21:01:33 -0000 (Tue, 19 Nov 2024)
EndedAt: 2024-11-19 21:01:37 -0000 (Tue, 19 Nov 2024)
EllapsedTime: 4.2 seconds
RetCode: 0
Status: OK