Package: MBQN Version: 2.18.0 Command: /Library/Frameworks/R.framework/Resources/bin/R CMD build --keep-empty-dirs --no-resave-data MBQN StartedAt: 2025-02-03 20:04:54 -0500 (Mon, 03 Feb 2025) EndedAt: 2025-02-03 20:05:17 -0500 (Mon, 03 Feb 2025) EllapsedTime: 22.4 seconds RetCode: 0 Status: OK PackageFile: MBQN_2.18.0.tar.gz PackageFileSize: 220.6 KiB