Package: MBQN Version: 2.18.0 Command: rm -rf MBQN.buildbin-libdir && mkdir MBQN.buildbin-libdir && F:\biocbuild\bbs-3.20-bioc\R\bin\R.exe CMD INSTALL --build --library=MBQN.buildbin-libdir MBQN_2.18.0.tar.gz StartedAt: 2025-02-04 08:51:38 -0500 (Tue, 04 Feb 2025) EndedAt: 2025-02-04 08:51:47 -0500 (Tue, 04 Feb 2025) EllapsedTime: 8.9 seconds RetCode: 0 Status: OK PackageFile: MBQN_2.18.0.zip PackageFileSize: 142.4 KiB