Package: MBQN Version: 2.18.0 Command: F:\biocbuild\bbs-3.20-bioc\R\bin\R.exe CMD check --no-multiarch --install=check:MBQN.install-out.txt --library=F:\biocbuild\bbs-3.20-bioc\R\library --no-vignettes --timings MBQN_2.18.0.tar.gz StartedAt: 2025-02-04 03:24:19 -0500 (Tue, 04 Feb 2025) EndedAt: 2025-02-04 03:24:58 -0500 (Tue, 04 Feb 2025) EllapsedTime: 39.3 seconds RetCode: 0 Status: OK CheckDir: MBQN.Rcheck Warnings: 0