Package: MBQN Version: 2.18.0 Command: F:\biocbuild\bbs-3.20-bioc\R\bin\R.exe CMD INSTALL MBQN StartedAt: 2025-02-03 16:26:31 -0500 (Mon, 03 Feb 2025) EndedAt: 2025-02-03 16:26:40 -0500 (Mon, 03 Feb 2025) EllapsedTime: 8.8 seconds RetCode: 0 Status: OK