Package: MBQN
Version: 2.18.0
Command: /home/biocbuild/R/R/bin/R CMD INSTALL MBQN
StartedAt: 2025-02-17 20:50:53 -0000 (Mon, 17 Feb 2025)
EndedAt: 2025-02-17 20:50:58 -0000 (Mon, 17 Feb 2025)
EllapsedTime: 4.7 seconds
RetCode: 0
Status: OK