Package: MBttest Version: 1.34.0 Command: /Library/Frameworks/R.framework/Resources/bin/R CMD check --install=check:MBttest.install-out.txt --library=/Library/Frameworks/R.framework/Resources/library --no-vignettes --timings MBttest_1.34.0.tar.gz StartedAt: 2025-02-04 05:53:30 -0500 (Tue, 04 Feb 2025) EndedAt: 2025-02-04 05:54:36 -0500 (Tue, 04 Feb 2025) EllapsedTime: 66.2 seconds RetCode: 0 Status: OK CheckDir: MBttest.Rcheck Warnings: 0