Package: MBttest Version: 1.34.0 Command: /Library/Frameworks/R.framework/Resources/bin/R CMD INSTALL MBttest StartedAt: 2025-02-03 15:14:58 -0500 (Mon, 03 Feb 2025) EndedAt: 2025-02-03 15:15:15 -0500 (Mon, 03 Feb 2025) EllapsedTime: 17.5 seconds RetCode: 0 Status: OK