Package: MBttest Version: 1.34.0 Command: /home/biocbuild/bbs-3.20-bioc/R/bin/R CMD INSTALL MBttest StartedAt: 2025-02-03 15:15:17 -0500 (Mon, 03 Feb 2025) EndedAt: 2025-02-03 15:15:25 -0500 (Mon, 03 Feb 2025) EllapsedTime: 7.8 seconds RetCode: 0 Status: OK