Package: MBttest Version: 1.34.0 Command: rm -rf MBttest.buildbin-libdir && mkdir MBttest.buildbin-libdir && F:\biocbuild\bbs-3.20-bioc\R\bin\R.exe CMD INSTALL --build --library=MBttest.buildbin-libdir MBttest_1.34.0.tar.gz StartedAt: 2025-02-04 08:51:46 -0500 (Tue, 04 Feb 2025) EndedAt: 2025-02-04 08:52:00 -0500 (Tue, 04 Feb 2025) EllapsedTime: 13.8 seconds RetCode: 0 Status: OK PackageFile: MBttest_1.34.0.zip PackageFileSize: 2.593 MiB