Package: MBttest Version: 1.34.0 Command: chmod a+r MBttest -R && F:\biocbuild\bbs-3.20-bioc\R\bin\R.exe CMD build --keep-empty-dirs --no-resave-data MBttest StartedAt: 2025-02-03 20:10:35 -0500 (Mon, 03 Feb 2025) EndedAt: 2025-02-03 20:11:05 -0500 (Mon, 03 Feb 2025) EllapsedTime: 30.2 seconds RetCode: 0 Status: OK PackageFile: MBttest_1.34.0.tar.gz PackageFileSize: 3.451 MiB