Package: MBttest Version: 1.34.0 Command: F:\biocbuild\bbs-3.20-bioc\R\bin\R.exe CMD INSTALL MBttest StartedAt: 2025-02-03 15:34:09 -0500 (Mon, 03 Feb 2025) EndedAt: 2025-02-03 15:34:24 -0500 (Mon, 03 Feb 2025) EllapsedTime: 14.3 seconds RetCode: 0 Status: OK