Package: MBttest Version: 1.34.0 Command: /home/biocbuild/R/R/bin/R CMD build --keep-empty-dirs --no-resave-data MBttest StartedAt: 2025-02-04 00:43:21 -0000 (Tue, 04 Feb 2025) EndedAt: 2025-02-04 00:43:47 -0000 (Tue, 04 Feb 2025) EllapsedTime: 26.0 seconds RetCode: 0 Status: OK PackageFile: MBttest_1.34.0.tar.gz PackageFileSize: 3.438 MiB