Package: MBttest
Version: 1.34.0
Command: /home/biocbuild/bbs-3.20-bioc/R/bin/R CMD build --keep-empty-dirs --no-resave-data MBttest
StartedAt: 2024-11-19 19:53:38 -0500 (Tue, 19 Nov 2024)
EndedAt: 2024-11-19 19:53:56 -0500 (Tue, 19 Nov 2024)
EllapsedTime: 18.0 seconds
RetCode: 0
Status: OK
PackageFile: MBttest_1.34.0.tar.gz
PackageFileSize: 3.447 <A href="http://en.wikipedia.org/wiki/MiB" target="_blank">MiB</A>