Package: MCbiclust Version: 1.30.0 Command: /Library/Frameworks/R.framework/Resources/bin/R CMD build --keep-empty-dirs --no-resave-data MCbiclust StartedAt: 2025-01-31 02:38:33 -0500 (Fri, 31 Jan 2025) EndedAt: 2025-01-31 02:39:52 -0500 (Fri, 31 Jan 2025) EllapsedTime: 78.7 seconds RetCode: 0 Status: OK PackageFile: MCbiclust_1.30.0.tar.gz PackageFileSize: 6.574 MiB