Package: MCbiclust Version: 1.30.0 Command: /Library/Frameworks/R.framework/Resources/bin/R CMD INSTALL MCbiclust StartedAt: 2025-01-30 17:14:06 -0500 (Thu, 30 Jan 2025) EndedAt: 2025-01-30 17:14:31 -0500 (Thu, 30 Jan 2025) EllapsedTime: 24.9 seconds RetCode: 0 Status: OK