Package: MCbiclust Version: 1.30.0 Command: /Library/Frameworks/R.framework/Resources/bin/R CMD build --keep-empty-dirs --no-resave-data MCbiclust StartedAt: 2025-02-03 20:05:17 -0500 (Mon, 03 Feb 2025) EndedAt: 2025-02-03 20:07:55 -0500 (Mon, 03 Feb 2025) EllapsedTime: 158.3 seconds RetCode: 0 Status: OK PackageFile: MCbiclust_1.30.0.tar.gz PackageFileSize: 6.562 MiB